{ "currentVersion": 10.91, "cimVersion": "2.9.0", "serviceDescription": "
Els elements del mapa es visualitzen completament a escala 1:1000 o més grans. Entre les escales 1:2000 i 1:5000 es mostra una generalització del mapa<\/span><\/p><\/div><\/div><\/div>",
"mapName": "topografia_1000_3857",
"description": " Els elements del mapa es visualitzen completament a escala 1:1000 o més grans. Entre les escales 1:2000 i 1:5000 es mostra una generalització del mapa<\/SPAN><\/P><\/DIV><\/DIV><\/DIV>",
"copyrightText": "Àrea Metropolitana de Barcelona",
"supportsDynamicLayers": true,
"layers": [
{
"id": 0,
"name": "01_Límits",
"parentLayerId": -1,
"defaultVisibility": true,
"subLayerIds": [
1,
2
],
"minScale": 0,
"maxScale": 7001,
"type": "Group Layer",
"supportsDynamicLegends": false
},
{
"id": 1,
"name": "Limit_Exterior",
"parentLayerId": 0,
"defaultVisibility": true,
"subLayerIds": null,
"minScale": 0,
"maxScale": 500,
"type": "Feature Layer",
"geometryType": "esriGeometryPolygon",
"supportsDynamicLegends": true
},
{
"id": 2,
"name": "Límit_Interior",
"parentLayerId": 0,
"defaultVisibility": true,
"subLayerIds": null,
"minScale": 0,
"maxScale": 0,
"type": "Feature Layer",
"geometryType": "esriGeometryPolygon",
"supportsDynamicLegends": true
},
{
"id": 3,
"name": "02_Toponímia",
"parentLayerId": -1,
"defaultVisibility": true,
"subLayerIds": [
4
],
"minScale": 7000,
"maxScale": 0,
"type": "Group Layer",
"supportsDynamicLegends": false
},
{
"id": 4,
"name": "Toponímia",
"parentLayerId": 3,
"defaultVisibility": true,
"subLayerIds": null,
"minScale": 0,
"maxScale": 0,
"type": "Feature Layer",
"geometryType": "esriGeometryPoint",
"supportsDynamicLegends": true
},
{
"id": 5,
"name": "03_Serveis",
"parentLayerId": -1,
"defaultVisibility": true,
"subLayerIds": [
6,
7,
8
],
"minScale": 7000,
"maxScale": 0,
"type": "Group Layer",
"supportsDynamicLegends": false
},
{
"id": 6,
"name": "Serveis (línies)",
"parentLayerId": 5,
"defaultVisibility": true,
"subLayerIds": null,
"minScale": 7000,
"maxScale": 0,
"type": "Feature Layer",
"geometryType": "esriGeometryPolyline",
"supportsDynamicLegends": true
},
{
"id": 7,
"name": "Serveis (punts)",
"parentLayerId": 5,
"defaultVisibility": true,
"subLayerIds": null,
"minScale": 0,
"maxScale": 0,
"type": "Feature Layer",
"geometryType": "esriGeometryPoint",
"supportsDynamicLegends": true
},
{
"id": 8,
"name": "Serveis (polígons)",
"parentLayerId": 5,
"defaultVisibility": true,
"subLayerIds": null,
"minScale": 7000,
"maxScale": 0,
"type": "Feature Layer",
"geometryType": "esriGeometryPolygon",
"supportsDynamicLegends": true
},
{
"id": 9,
"name": "04_Vegetació / Cobertes",
"parentLayerId": -1,
"defaultVisibility": true,
"subLayerIds": [
10,
11,
12
],
"minScale": 7000,
"maxScale": 0,
"type": "Group Layer",
"supportsDynamicLegends": false
},
{
"id": 10,
"name": "Vegetació / Cobertes (punts)",
"parentLayerId": 9,
"defaultVisibility": true,
"subLayerIds": null,
"minScale": 7000,
"maxScale": 0,
"type": "Feature Layer",
"geometryType": "esriGeometryPoint",
"supportsDynamicLegends": true
},
{
"id": 11,
"name": "Vegetació / Cobertes (línies)",
"parentLayerId": 9,
"defaultVisibility": true,
"subLayerIds": null,
"minScale": 7000,
"maxScale": 0,
"type": "Feature Layer",
"geometryType": "esriGeometryPolyline",
"supportsDynamicLegends": true
},
{
"id": 12,
"name": "Vegetació / Cobertes (polígons)",
"parentLayerId": 9,
"defaultVisibility": true,
"subLayerIds": null,
"minScale": 7000,
"maxScale": 0,
"type": "Feature Layer",
"geometryType": "esriGeometryPolygon",
"supportsDynamicLegends": true
},
{
"id": 13,
"name": "05_Altimetria / Elements del relleu",
"parentLayerId": -1,
"defaultVisibility": true,
"subLayerIds": [
14,
15,
16
],
"minScale": 7000,
"maxScale": 0,
"type": "Group Layer",
"supportsDynamicLegends": false
},
{
"id": 14,
"name": "Altimetria / Elements del relleu (etiquetes) - Corbes de nivell",
"parentLayerId": 13,
"defaultVisibility": true,
"subLayerIds": null,
"minScale": 7000,
"maxScale": 0,
"type": "Feature Layer",
"geometryType": "esriGeometryPoint",
"supportsDynamicLegends": true
},
{
"id": 15,
"name": "Altimetria / Elements del relleu (línies) - Corbes de nivell",
"parentLayerId": 13,
"defaultVisibility": true,
"subLayerIds": null,
"minScale": 7000,
"maxScale": 0,
"type": "Feature Layer",
"geometryType": "esriGeometryPolyline",
"supportsDynamicLegends": true
},
{
"id": 16,
"name": "Altimetria / Elements del relleu (punts) - Cotes",
"parentLayerId": 13,
"defaultVisibility": true,
"subLayerIds": null,
"minScale": 5000,
"maxScale": 0,
"type": "Feature Layer",
"geometryType": "esriGeometryPoint",
"supportsDynamicLegends": true
},
{
"id": 17,
"name": "06_Poblament / Infraestructures auxiliars",
"parentLayerId": -1,
"defaultVisibility": true,
"subLayerIds": [
18,
19
],
"minScale": 7000,
"maxScale": 0,
"type": "Group Layer",
"supportsDynamicLegends": false
},
{
"id": 18,
"name": "Poblament / Infraestructures auxiliars (línies)",
"parentLayerId": 17,
"defaultVisibility": true,
"subLayerIds": null,
"minScale": 7000,
"maxScale": 0,
"type": "Feature Layer",
"geometryType": "esriGeometryPolyline",
"supportsDynamicLegends": true
},
{
"id": 19,
"name": "Poblament / Infraestructures auxiliars (polígons)",
"parentLayerId": 17,
"defaultVisibility": true,
"subLayerIds": null,
"minScale": 7000,
"maxScale": 0,
"type": "Feature Layer",
"geometryType": "esriGeometryPolygon",
"supportsDynamicLegends": true
},
{
"id": 20,
"name": "07_Vies de comunicació",
"parentLayerId": -1,
"defaultVisibility": true,
"subLayerIds": [
21
],
"minScale": 7000,
"maxScale": 0,
"type": "Group Layer",
"supportsDynamicLegends": false
},
{
"id": 21,
"name": "Vies de comunicació (línies)",
"parentLayerId": 20,
"defaultVisibility": true,
"subLayerIds": null,
"minScale": 7000,
"maxScale": 0,
"type": "Feature Layer",
"geometryType": "esriGeometryPolyline",
"supportsDynamicLegends": true
},
{
"id": 22,
"name": "08_Hidrografia",
"parentLayerId": -1,
"defaultVisibility": true,
"subLayerIds": [
23
],
"minScale": 7000,
"maxScale": 0,
"type": "Group Layer",
"supportsDynamicLegends": false
},
{
"id": 23,
"name": "Hidrografia (línies)",
"parentLayerId": 22,
"defaultVisibility": true,
"subLayerIds": null,
"minScale": 7000,
"maxScale": 0,
"type": "Feature Layer",
"geometryType": "esriGeometryPolyline",
"supportsDynamicLegends": true
},
{
"id": 24,
"name": "09_Platges",
"parentLayerId": -1,
"defaultVisibility": true,
"subLayerIds": [
25,
26,
27
],
"minScale": 7000,
"maxScale": 0,
"type": "Group Layer",
"supportsDynamicLegends": false
},
{
"id": 25,
"name": "Elements platges (punts)",
"parentLayerId": 24,
"defaultVisibility": true,
"subLayerIds": null,
"minScale": 7000,
"maxScale": 0,
"type": "Feature Layer",
"geometryType": "esriGeometryPoint",
"supportsDynamicLegends": true
},
{
"id": 26,
"name": "Elements platges (línies)",
"parentLayerId": 24,
"defaultVisibility": true,
"subLayerIds": null,
"minScale": 7000,
"maxScale": 0,
"type": "Feature Layer",
"geometryType": "esriGeometryPolyline",
"supportsDynamicLegends": true
},
{
"id": 27,
"name": "Elements platges (polígons)",
"parentLayerId": 24,
"defaultVisibility": true,
"subLayerIds": null,
"minScale": 7000,
"maxScale": 0,
"type": "Feature Layer",
"geometryType": "esriGeometryPolygon",
"supportsDynamicLegends": true
}
],
"tables": [],
"spatialReference": {
"wkid": 102100,
"latestWkid": 3857,
"xyTolerance": 0.001,
"zTolerance": 0.001,
"mTolerance": 0.001,
"falseX": -20037700,
"falseY": -30241100,
"xyUnits": 10000,
"falseZ": -100000,
"zUnits": 10000,
"falseM": -100000,
"mUnits": 10000
},
"singleFusedMapCache": true,
"tileInfo": {
"rows": 256,
"cols": 256,
"dpi": 96,
"format": "PNG",
"compressionQuality": 0,
"origin": {
"x": -2.0037508342787E7,
"y": 2.0037508342787E7
},
"spatialReference": {
"wkid": 102100,
"latestWkid": 3857,
"xyTolerance": 0.001,
"zTolerance": 0.001,
"mTolerance": 0.001,
"falseX": -20037700,
"falseY": -30241100,
"xyUnits": 1.4892314192838538E8,
"falseZ": -100000,
"zUnits": 10000,
"falseM": -100000,
"mUnits": 10000
},
"lods": [
{
"level": 0,
"resolution": 156543.033928,
"scale": 5.91657527591555E8
},
{
"level": 1,
"resolution": 78271.5169639999,
"scale": 2.95828763795777E8
},
{
"level": 2,
"resolution": 39135.7584820001,
"scale": 1.47914381897889E8
},
{
"level": 3,
"resolution": 19567.8792409999,
"scale": 7.3957190948944E7
},
{
"level": 4,
"resolution": 9783.93962049996,
"scale": 3.6978595474472E7
},
{
"level": 5,
"resolution": 4891.96981024998,
"scale": 1.8489297737236E7
},
{
"level": 6,
"resolution": 2445.98490512499,
"scale": 9244648.868618
},
{
"level": 7,
"resolution": 1222.99245256249,
"scale": 4622324.434309
},
{
"level": 8,
"resolution": 611.49622628138,
"scale": 2311162.217155
},
{
"level": 9,
"resolution": 305.748113140558,
"scale": 1155581.108577
},
{
"level": 10,
"resolution": 152.874056570411,
"scale": 577790.554289
},
{
"level": 11,
"resolution": 76.4370282850732,
"scale": 288895.277144
},
{
"level": 12,
"resolution": 38.2185141425366,
"scale": 144447.638572
},
{
"level": 13,
"resolution": 19.1092570712683,
"scale": 72223.819286
},
{
"level": 14,
"resolution": 9.55462853563415,
"scale": 36111.909643
},
{
"level": 15,
"resolution": 4.77731426794937,
"scale": 18055.954822
},
{
"level": 16,
"resolution": 2.38865713397468,
"scale": 9027.977411
},
{
"level": 17,
"resolution": 1.19432856685505,
"scale": 4513.988705
},
{
"level": 18,
"resolution": 0.597164283559817,
"scale": 2256.994353
},
{
"level": 19,
"resolution": 0.298582141647617,
"scale": 1128.497176
},
{
"level": 20,
"resolution": 0.14929107082380833,
"scale": 564.248588
},
{
"level": 21,
"resolution": 0.07464553541190416,
"scale": 282.124294
},
{
"level": 22,
"resolution": 0.03732276770595208,
"scale": 141.062147
},
{
"level": 23,
"resolution": 0.01866138385297604,
"scale": 70.5310735
}
]
},
"storageInfo": {
"storageFormat": "esriMapCacheStorageModeCompactV2",
"packetSize": 128
},
"initialExtent": {
"xmin": 206951.42978528328,
"ymin": 5050378.768887656,
"xmax": 251824.85286546277,
"ymax": 5094035.10620033,
"spatialReference": {
"cs": "pcs",
"wkid": 102100
}
},
"fullExtent": {
"xmin": 204931.57335594326,
"ymin": 5051036.872728392,
"xmax": 256751.62062650305,
"ymax": 5097631.521051931,
"spatialReference": {
"cs": "pcs",
"wkid": 102100
}
},
"datesInUnknownTimezone": false,
"minScale": 288895.277144,
"maxScale": 282.124294,
"minLOD": 11,
"maxLOD": 21,
"units": "esriMeters",
"supportedImageFormatTypes": "PNG32,PNG24,PNG,JPG,DIB,TIFF,EMF,PS,PDF,GIF,SVG,SVGZ,BMP",
"documentInfo": {
"Title": "Mapa Topogràfic Metropolità 1:1000 (MTM-1M)",
"Author": "",
"Comments": " Els elements del mapa es visualitzen completament a escala 1:1000 o més grans. Entre les escales 1:2000 i 1:5000 es mostra una generalització del mapa<\/SPAN><\/P><\/DIV><\/DIV><\/DIV>",
"Subject": "Cartografia topogràfica a escala 1:1000 de tot el territori metropolità de Barcelona, contínua i en 3D",
"Category": "",
"AntialiasingMode": "None",
"TextAntialiasingMode": "Force",
"Version": "2.9.0",
"Keywords": "#AMB #cartografiaAMB #GeoportalCartografiaAMB #WMS #WMTS #MTM-1M #CT-1M #mapatopogràfic #mapa #topogràfic"
},
"supportsQueryDomains": true,
"capabilities": "Query,Map,Data",
"supportedQueryFormats": "JSON, geoJSON, PBF",
"exportTilesAllowed": false,
"referenceScale": 0.0,
"datumTransformations": [
{
"geoTransforms": [
{
"wkid": 108358,
"latestWkid": 5661,
"transformForward": false,
"name": "ED_1950_To_ETRS_1989_NTv2_Catalonia"
},
{
"wkid": 108359,
"latestWkid": 108359,
"transformForward": true,
"name": "ED_1950_To_WGS_1984_NTv2_Catalonia"
}
]
},
{
"geoTransforms": [
{
"wkid": 108359,
"latestWkid": 108359,
"transformForward": false,
"name": "ED_1950_To_WGS_1984_NTv2_Catalonia"
},
{
"wkid": 108358,
"latestWkid": 5661,
"transformForward": true,
"name": "ED_1950_To_ETRS_1989_NTv2_Catalonia"
}
]
},
{
"geoTransforms": [
{
"wkid": 108358,
"latestWkid": 5661,
"transformForward": false,
"name": "ED_1950_To_ETRS_1989_NTv2_Catalonia"
},
{
"wkid": 108359,
"latestWkid": 108359,
"transformForward": true,
"name": "ED_1950_To_WGS_1984_NTv2_Catalonia"
}
]
},
{
"geoTransforms": [
{
"wkid": 108359,
"latestWkid": 108359,
"transformForward": false,
"name": "ED_1950_To_WGS_1984_NTv2_Catalonia"
},
{
"wkid": 108358,
"latestWkid": 5661,
"transformForward": true,
"name": "ED_1950_To_ETRS_1989_NTv2_Catalonia"
}
]
}
],
"supportsDatumTransformation": true,
"floorAwareMapProperties": {
"defaultFloorFilterSettings": {"isEnabled": true}
},
"archivingInfo": {"supportsHistoricMoment": false},
"supportsClipping": true,
"supportsSpatialFilter": true,
"supportsTimeRelation": true,
"supportsQueryDataElements": true,
"maxRecordCount": 2000,
"maxImageHeight": 4096,
"maxImageWidth": 4096,
"supportedExtensions": ""
}