{ "currentVersion": 10.91, "cimVersion": "2.9.0", "serviceDescription": "Mapa topogràfic metropolità 1:1000", "mapName": "topografia_1000_25831", "description": "
Els elements del mapa es visualitzen completament a escala 1:1000 o més grans. Entre les escales 1:2000 i 1:5000 es mostra una generalització del mapa<\/SPAN><\/P><\/DIV><\/DIV><\/DIV>",
"copyrightText": "Àrea Metropolitana de Barcelona",
"supportsDynamicLayers": true,
"layers": [
{
"id": 0,
"name": "01_Límits",
"parentLayerId": -1,
"defaultVisibility": true,
"subLayerIds": [
1,
2
],
"minScale": 0,
"maxScale": 7001,
"type": "Group Layer",
"supportsDynamicLegends": false
},
{
"id": 1,
"name": "Limit_Exterior",
"parentLayerId": 0,
"defaultVisibility": true,
"subLayerIds": null,
"minScale": 0,
"maxScale": 500,
"type": "Feature Layer",
"geometryType": "esriGeometryPolygon",
"supportsDynamicLegends": true
},
{
"id": 2,
"name": "Límit_Interior",
"parentLayerId": 0,
"defaultVisibility": true,
"subLayerIds": null,
"minScale": 0,
"maxScale": 0,
"type": "Feature Layer",
"geometryType": "esriGeometryPolygon",
"supportsDynamicLegends": true
},
{
"id": 3,
"name": "02_Toponímia",
"parentLayerId": -1,
"defaultVisibility": true,
"subLayerIds": [
4
],
"minScale": 0,
"maxScale": 0,
"type": "Group Layer",
"supportsDynamicLegends": false
},
{
"id": 4,
"name": "Toponímia",
"parentLayerId": 3,
"defaultVisibility": true,
"subLayerIds": null,
"minScale": 0,
"maxScale": 0,
"type": "Feature Layer",
"geometryType": "esriGeometryPoint",
"supportsDynamicLegends": true
},
{
"id": 5,
"name": "03_Serveis",
"parentLayerId": -1,
"defaultVisibility": true,
"subLayerIds": [
6,
7,
8
],
"minScale": 7000,
"maxScale": 0,
"type": "Group Layer",
"supportsDynamicLegends": false
},
{
"id": 6,
"name": "Serveis (línies)",
"parentLayerId": 5,
"defaultVisibility": true,
"subLayerIds": null,
"minScale": 7000,
"maxScale": 0,
"type": "Feature Layer",
"geometryType": "esriGeometryPolyline",
"supportsDynamicLegends": true
},
{
"id": 7,
"name": "Serveis (punts)",
"parentLayerId": 5,
"defaultVisibility": true,
"subLayerIds": null,
"minScale": 0,
"maxScale": 0,
"type": "Feature Layer",
"geometryType": "esriGeometryPoint",
"supportsDynamicLegends": true
},
{
"id": 8,
"name": "Serveis (polígons)",
"parentLayerId": 5,
"defaultVisibility": true,
"subLayerIds": null,
"minScale": 7000,
"maxScale": 0,
"type": "Feature Layer",
"geometryType": "esriGeometryPolygon",
"supportsDynamicLegends": true
},
{
"id": 9,
"name": "04_Vegetació / Cobertes",
"parentLayerId": -1,
"defaultVisibility": true,
"subLayerIds": [
10,
11,
12
],
"minScale": 7000,
"maxScale": 0,
"type": "Group Layer",
"supportsDynamicLegends": false
},
{
"id": 10,
"name": "Vegetació / Cobertes (punts)",
"parentLayerId": 9,
"defaultVisibility": true,
"subLayerIds": null,
"minScale": 7000,
"maxScale": 0,
"type": "Feature Layer",
"geometryType": "esriGeometryPoint",
"supportsDynamicLegends": true
},
{
"id": 11,
"name": "Vegetació / Cobertes (línies)",
"parentLayerId": 9,
"defaultVisibility": true,
"subLayerIds": null,
"minScale": 7000,
"maxScale": 0,
"type": "Feature Layer",
"geometryType": "esriGeometryPolyline",
"supportsDynamicLegends": true
},
{
"id": 12,
"name": "Vegetació / Cobertes (polígons)",
"parentLayerId": 9,
"defaultVisibility": true,
"subLayerIds": null,
"minScale": 7000,
"maxScale": 0,
"type": "Feature Layer",
"geometryType": "esriGeometryPolygon",
"supportsDynamicLegends": true
},
{
"id": 13,
"name": "05_Altimetria / Elements del relleu",
"parentLayerId": -1,
"defaultVisibility": true,
"subLayerIds": [
14,
15,
16
],
"minScale": 7000,
"maxScale": 0,
"type": "Group Layer",
"supportsDynamicLegends": false
},
{
"id": 14,
"name": "Altimetria / Elements del relleu (etiquetes) - Corbes de nivell",
"parentLayerId": 13,
"defaultVisibility": true,
"subLayerIds": null,
"minScale": 7000,
"maxScale": 0,
"type": "Feature Layer",
"geometryType": "esriGeometryPoint",
"supportsDynamicLegends": true
},
{
"id": 15,
"name": "Altimetria / Elements del relleu (línies) - Corbes de nivell",
"parentLayerId": 13,
"defaultVisibility": true,
"subLayerIds": null,
"minScale": 7000,
"maxScale": 0,
"type": "Feature Layer",
"geometryType": "esriGeometryPolyline",
"supportsDynamicLegends": true
},
{
"id": 16,
"name": "Altimetria / Elements del relleu (punts) - Cotes",
"parentLayerId": 13,
"defaultVisibility": true,
"subLayerIds": null,
"minScale": 5000,
"maxScale": 0,
"type": "Feature Layer",
"geometryType": "esriGeometryPoint",
"supportsDynamicLegends": true
},
{
"id": 17,
"name": "06_Poblament / Infraestructures auxiliars",
"parentLayerId": -1,
"defaultVisibility": true,
"subLayerIds": [
18,
19,
20,
21
],
"minScale": 7000,
"maxScale": 0,
"type": "Group Layer",
"supportsDynamicLegends": false
},
{
"id": 18,
"name": "Poblament / Infraestructures auxiliars (etiquetes) - ID Vèrtex Geodèsic ICGC",
"parentLayerId": 17,
"defaultVisibility": false,
"subLayerIds": null,
"minScale": 7000,
"maxScale": 0,
"type": "Feature Layer",
"geometryType": "esriGeometryPoint",
"supportsDynamicLegends": true
},
{
"id": 19,
"name": "Poblament / Infraestructures auxiliars (punts) - Xarxa geodèsica",
"parentLayerId": 17,
"defaultVisibility": false,
"subLayerIds": null,
"minScale": 7000,
"maxScale": 0,
"type": "Feature Layer",
"geometryType": "esriGeometryPoint",
"supportsDynamicLegends": true
},
{
"id": 20,
"name": "Poblament / Infraestructures auxiliars (línies)",
"parentLayerId": 17,
"defaultVisibility": true,
"subLayerIds": null,
"minScale": 7000,
"maxScale": 0,
"type": "Feature Layer",
"geometryType": "esriGeometryPolyline",
"supportsDynamicLegends": true
},
{
"id": 21,
"name": "Poblament / Infraestructures auxiliars (polígons)",
"parentLayerId": 17,
"defaultVisibility": true,
"subLayerIds": null,
"minScale": 7000,
"maxScale": 0,
"type": "Feature Layer",
"geometryType": "esriGeometryPolygon",
"supportsDynamicLegends": true
},
{
"id": 22,
"name": "07_Vies de comunicació",
"parentLayerId": -1,
"defaultVisibility": true,
"subLayerIds": [
23
],
"minScale": 7000,
"maxScale": 0,
"type": "Group Layer",
"supportsDynamicLegends": false
},
{
"id": 23,
"name": "Vies de comunicació (línies)",
"parentLayerId": 22,
"defaultVisibility": true,
"subLayerIds": null,
"minScale": 7000,
"maxScale": 0,
"type": "Feature Layer",
"geometryType": "esriGeometryPolyline",
"supportsDynamicLegends": true
},
{
"id": 24,
"name": "08_Hidrografia",
"parentLayerId": -1,
"defaultVisibility": true,
"subLayerIds": [
25
],
"minScale": 7000,
"maxScale": 0,
"type": "Group Layer",
"supportsDynamicLegends": false
},
{
"id": 25,
"name": "Hidrografia (línies)",
"parentLayerId": 24,
"defaultVisibility": true,
"subLayerIds": null,
"minScale": 7000,
"maxScale": 0,
"type": "Feature Layer",
"geometryType": "esriGeometryPolyline",
"supportsDynamicLegends": true
},
{
"id": 26,
"name": "09_Platges",
"parentLayerId": -1,
"defaultVisibility": true,
"subLayerIds": [
27,
28,
29
],
"minScale": 7000,
"maxScale": 0,
"type": "Group Layer",
"supportsDynamicLegends": false
},
{
"id": 27,
"name": "Elements platges (punts)",
"parentLayerId": 26,
"defaultVisibility": true,
"subLayerIds": null,
"minScale": 7000,
"maxScale": 0,
"type": "Feature Layer",
"geometryType": "esriGeometryPoint",
"supportsDynamicLegends": true
},
{
"id": 28,
"name": "Elements platges (línies)",
"parentLayerId": 26,
"defaultVisibility": true,
"subLayerIds": null,
"minScale": 7000,
"maxScale": 0,
"type": "Feature Layer",
"geometryType": "esriGeometryPolyline",
"supportsDynamicLegends": true
},
{
"id": 29,
"name": "Elements platges (polígons)",
"parentLayerId": 26,
"defaultVisibility": true,
"subLayerIds": null,
"minScale": 7000,
"maxScale": 0,
"type": "Feature Layer",
"geometryType": "esriGeometryPolygon",
"supportsDynamicLegends": true
}
],
"tables": [],
"spatialReference": {
"wkid": 25831,
"latestWkid": 25831,
"xyTolerance": 0.001,
"zTolerance": 0.001,
"mTolerance": 0.001,
"falseX": -5120900,
"falseY": -9998100,
"xyUnits": 10000,
"falseZ": -100000,
"zUnits": 10000,
"falseM": -100000,
"mUnits": 10000
},
"singleFusedMapCache": true,
"tileInfo": {
"rows": 256,
"cols": 256,
"dpi": 96,
"format": "PNG8",
"compressionQuality": 0,
"origin": {
"x": 258000,
"y": 4766600
},
"spatialReference": {
"wkid": 25831,
"latestWkid": 25831,
"xyTolerance": 0.001,
"zTolerance": 0.001,
"mTolerance": 0.001,
"falseX": -5120900,
"falseY": -9998100,
"xyUnits": 4.504455473910538E8,
"falseZ": -100000,
"zUnits": 10000,
"falseM": -100000,
"mUnits": 10000
},
"lods": [
{
"level": 0,
"resolution": 52.91677250021167,
"scale": 200000
},
{
"level": 1,
"resolution": 26.458386250105836,
"scale": 100000
},
{
"level": 2,
"resolution": 13.229193125052918,
"scale": 50000
},
{
"level": 3,
"resolution": 6.614596562526459,
"scale": 25000
},
{
"level": 4,
"resolution": 2.6458386250105836,
"scale": 10000
},
{
"level": 5,
"resolution": 1.3229193125052918,
"scale": 5000
},
{
"level": 6,
"resolution": 0.5291677250021167,
"scale": 2000
},
{
"level": 7,
"resolution": 0.26458386250105836,
"scale": 1000
},
{
"level": 8,
"resolution": 0.13229193125052918,
"scale": 500
},
{
"level": 9,
"resolution": 0.05291677250021167,
"scale": 200
}
]
},
"storageInfo": {
"storageFormat": "esriMapCacheStorageModeCompactV2",
"packetSize": 128
},
"initialExtent": {
"xmin": 399050.350299713,
"ymin": 4562310.4947814,
"xmax": 443923.7733798925,
"ymax": 4605966.832094074,
"spatialReference": {
"wkid": 25831,
"latestWkid": 25831,
"xyTolerance": 0.001,
"zTolerance": 0.001,
"mTolerance": 0.001,
"falseX": -5120900,
"falseY": -9998100,
"xyUnits": 10000,
"falseZ": -100000,
"zUnits": 10000,
"falseM": -100000,
"mUnits": 10000
}
},
"fullExtent": {
"xmin": 260160.19070000015,
"ymin": 4488759.7179000005,
"xmax": 527397.5800000001,
"ymax": 4747976.189900001,
"spatialReference": {
"wkid": 25831,
"latestWkid": 25831,
"xyTolerance": 0.001,
"zTolerance": 0.001,
"mTolerance": 0.001,
"falseX": -5120900,
"falseY": -9998100,
"xyUnits": 10000,
"falseZ": -100000,
"zUnits": 10000,
"falseM": -100000,
"mUnits": 10000
}
},
"datesInUnknownTimezone": false,
"minScale": 200000,
"maxScale": 200,
"units": "esriMeters",
"supportedImageFormatTypes": "PNG32,PNG24,PNG,JPG,DIB,TIFF,EMF,PS,PDF,GIF,SVG,SVGZ,BMP",
"documentInfo": {
"Title": "Mapa Topogràfic Metropolità 1:1000 (MTM-1M)",
"Author": "",
"Comments": " Els elements del mapa es visualitzen completament a escala 1:1000 o més grans. Entre les escales 1:2000 i 1:5000 es mostra una generalització del mapa<\/SPAN><\/P><\/DIV><\/DIV><\/DIV>",
"Subject": "Cartografia topogràfica a escala 1:1000 de tot el territori metropolità de Barcelona, contínua i en 3D",
"Category": "",
"AntialiasingMode": "Best",
"TextAntialiasingMode": "Force",
"Version": "2.9.0",
"Keywords": "#1000 #AMB #GeoportalAMB #MTM-1M"
},
"supportsQueryDomains": true,
"capabilities": "Map,Data",
"supportedQueryFormats": "JSON, geoJSON, PBF",
"exportTilesAllowed": false,
"referenceScale": 0.0,
"supportsDatumTransformation": true,
"floorAwareMapProperties": {
"defaultFloorFilterSettings": {"isEnabled": true}
},
"archivingInfo": {"supportsHistoricMoment": false},
"supportsClipping": true,
"supportsSpatialFilter": true,
"supportsTimeRelation": true,
"supportsQueryDataElements": true,
"maxRecordCount": 1000,
"maxImageHeight": 4096,
"maxImageWidth": 4096,
"supportedExtensions": "",
"resampling": false
}