{
 "currentVersion": 10.91,
 "serviceDescription": "Ortofoto històrica de 1992",
 "mapName": "ORTO1992",
 "description": "Base topogràfica simbolitzada a escales 1M,2M,5M,10M,25M,50M,100M i 200m per a la creació del geoservei de mapa base de grisos per a ús intern del serveis de direcció de l'Àrea Metropolitana de Barcelona",
 "copyrightText": "",
 "supportsDynamicLayers": false,
 "layers": [
  {
   "id": 778331508,
   "name": "Orto1992",
   "parentLayerId": -1,
   "defaultVisibility": true,
   "subLayerIds": [
    778331509,
    778331510,
    778331511
   ],
   "minScale": 0,
   "maxScale": 0,
   "type": "Mosaic Layer"
  },
  {
   "id": 778331509,
   "name": "Boundary",
   "parentLayerId": 778331508,
   "defaultVisibility": false,
   "subLayerIds": null,
   "minScale": 0,
   "maxScale": 0,
   "type": "Feature Layer",
   "geometryType": "esriGeometryPolygon"
  },
  {
   "id": 778331510,
   "name": "Footprint",
   "parentLayerId": 778331508,
   "defaultVisibility": false,
   "subLayerIds": null,
   "minScale": 0,
   "maxScale": 0,
   "type": "Feature Layer",
   "geometryType": "esriGeometryPolygon"
  },
  {
   "id": 778331511,
   "name": "Image",
   "parentLayerId": 778331508,
   "defaultVisibility": true,
   "subLayerIds": null,
   "minScale": 0,
   "maxScale": 0,
   "type": "Raster Layer"
  }
 ],
 "tables": [],
 "spatialReference": {
  "wkid": 25831,
  "latestWkid": 25831
 },
 "singleFusedMapCache": true,
 "tileInfo": {
  "rows": 256,
  "cols": 256,
  "dpi": 96,
  "format": "PNG32",
  "compressionQuality": 0,
  "origin": {
   "x": 258000,
   "y": 4766600
  },
  "spatialReference": {
   "wkid": 25831,
   "latestWkid": 25831
  },
  "lods": [
   {
    "level": 0,
    "resolution": 52.91677250021167,
    "scale": 200000
   },
   {
    "level": 1,
    "resolution": 26.458386250105836,
    "scale": 100000
   },
   {
    "level": 2,
    "resolution": 13.229193125052918,
    "scale": 50000
   },
   {
    "level": 3,
    "resolution": 6.614596562526459,
    "scale": 25000
   },
   {
    "level": 4,
    "resolution": 2.6458386250105836,
    "scale": 10000
   },
   {
    "level": 5,
    "resolution": 1.3229193125052918,
    "scale": 5000
   },
   {
    "level": 6,
    "resolution": 0.5291677250021167,
    "scale": 2000
   },
   {
    "level": 7,
    "resolution": 0.26458386250105836,
    "scale": 1000
   }
  ]
 },
 "initialExtent": {
  "xmin": 393588.20692075184,
  "ymin": 4575354.92433027,
  "xmax": 462856.26212352887,
  "ymax": 4606469.986560395,
  "spatialReference": {
   "wkid": 25831,
   "latestWkid": 25831
  }
 },
 "fullExtent": {
  "xmin": 389307.5904215995,
  "ymin": 4559885.588639566,
  "xmax": 456564.80826936854,
  "ymax": 4605182.345899747,
  "spatialReference": {
   "wkid": 25831,
   "latestWkid": 25831
  }
 },
 "minScale": 200000,
 "maxScale": 1000,
 "units": "esriMeters",
 "supportedImageFormatTypes": "PNG32,PNG24,PNG,JPG,DIB,TIFF,EMF,PS,PDF,GIF,SVG,SVGZ,BMP",
 "documentInfo": {
  "Title": "",
  "Author": "",
  "Comments": "Ortofoto històrica de 1992",
  "Subject": "Ortofoto històrica de 1992",
  "Category": "",
  "AntialiasingMode": "None",
  "TextAntialiasingMode": "Force",
  "Keywords": "#ortofoto #1992 #AMB"
 },
 "capabilities": "Map,Query,Data",
 "supportedQueryFormats": "JSON, geoJSON",
 "exportTilesAllowed": false,
 "referenceScale": 0,
 "supportsDatumTransformation": true,
 "maxRecordCount": 1000,
 "maxImageHeight": 4096,
 "maxImageWidth": 4096,
 "supportedExtensions": ""
}
