{ "currentVersion": 11.5, "cimVersion": "3.5.0", "serviceDescription": "
ortofoto territorial 75cm del 1965<\/SPAN><\/P><\/DIV>",
"mapName": "ortofoto_territorial_75cm_1965_25831",
"description": " ortofoto territorial 75cm del 1965<\/SPAN><\/P><\/DIV>",
"copyrightText": "",
"supportsDynamicLayers": true,
"layers": [
{
"id": 0,
"name": "ortofoto_territorial_75cm_1965",
"parentLayerId": -1,
"defaultVisibility": true,
"subLayerIds": [
1,
2,
3
],
"minScale": 0,
"maxScale": 0,
"type": "Mosaic Layer",
"supportsDynamicLegends": false
},
{
"id": 1,
"name": "Boundary",
"parentLayerId": 0,
"defaultVisibility": false,
"subLayerIds": null,
"minScale": 0,
"maxScale": 0,
"type": "Feature Layer",
"geometryType": "esriGeometryPolygon",
"supportsDynamicLegends": true
},
{
"id": 2,
"name": "Footprint",
"parentLayerId": 0,
"defaultVisibility": false,
"subLayerIds": null,
"minScale": 0,
"maxScale": 0,
"type": "Feature Layer",
"geometryType": "esriGeometryPolygon",
"supportsDynamicLegends": true
},
{
"id": 3,
"name": "Image",
"parentLayerId": 0,
"defaultVisibility": true,
"subLayerIds": null,
"minScale": 0,
"maxScale": 0,
"type": "Raster Layer",
"supportsDynamicLegends": true
}
],
"tables": [],
"spatialReference": {
"wkid": 25831,
"latestWkid": 25831,
"xyTolerance": 0.001,
"zTolerance": 0.001,
"mTolerance": 0.001,
"falseX": -5120900,
"falseY": -9998100,
"xyUnits": 10000,
"falseZ": -100000,
"zUnits": 10000,
"falseM": -100000,
"mUnits": 10000
},
"singleFusedMapCache": true,
"tileInfo": {
"rows": 256,
"cols": 256,
"dpi": 96,
"format": "PNG8",
"compressionQuality": 0,
"origin": {
"x": 258000,
"y": 4766600
},
"spatialReference": {
"wkid": 25831,
"latestWkid": 25831,
"xyTolerance": 0.001,
"zTolerance": 0.001,
"mTolerance": 0.001,
"falseX": -5120900,
"falseY": -9998100,
"xyUnits": 4.504455473910538E8,
"falseZ": -100000,
"zUnits": 10000,
"falseM": -100000,
"mUnits": 10000
},
"lods": [
{
"level": 0,
"resolution": 52.91677250021167,
"scale": 200000
},
{
"level": 1,
"resolution": 26.458386250105836,
"scale": 100000
},
{
"level": 2,
"resolution": 13.229193125052918,
"scale": 50000
},
{
"level": 3,
"resolution": 6.614596562526459,
"scale": 25000
},
{
"level": 4,
"resolution": 2.6458386250105836,
"scale": 10000
},
{
"level": 5,
"resolution": 1.3229193125052918,
"scale": 5000
},
{
"level": 6,
"resolution": 0.5291677250021167,
"scale": 2000
},
{
"level": 7,
"resolution": 0.26458386250105836,
"scale": 1000
}
]
},
"storageInfo": {
"storageFormat": "esriMapCacheStorageModeCompactV2",
"packetSize": 128
},
"initialExtent": {
"xmin": 359598.75489844545,
"ymin": 4557929.590510503,
"xmax": 476751.31040054944,
"ymax": 4608599.867583499,
"spatialReference": {
"wkid": 25831,
"latestWkid": 25831,
"xyTolerance": 0.001,
"zTolerance": 0.001,
"mTolerance": 0.001,
"falseX": -5120900,
"falseY": -9998100,
"xyUnits": 10000,
"falseZ": -100000,
"zUnits": 10000,
"falseM": -100000,
"mUnits": 10000
}
},
"fullExtent": {
"xmin": 365749.7719565018,
"ymin": 4557929.590510503,
"xmax": 470600.29334249307,
"ymax": 4608599.867583499,
"spatialReference": {
"wkid": 25831,
"latestWkid": 25831,
"xyTolerance": 0.001,
"zTolerance": 0.001,
"mTolerance": 0.001,
"falseX": -5120900,
"falseY": -9998100,
"xyUnits": 10000,
"falseZ": -100000,
"zUnits": 10000,
"falseM": -100000,
"mUnits": 10000
}
},
"datesInUnknownTimezone": false,
"minScale": 200000,
"maxScale": 1000,
"units": "esriMeters",
"supportedImageFormatTypes": "PNG32,PNG24,PNG,JPG,DIB,TIFF,EMF,PS,PDF,GIF,SVG,SVGZ,BMP",
"documentInfo": {
"Title": "ortofoto_territorial_75cm_1965_25831",
"Author": "",
"Comments": " ortofoto territorial 75cm del 1965<\/SPAN><\/P><\/DIV>",
"Subject": "",
"Category": "",
"Version": "2.9.0",
"AntialiasingMode": "Fast",
"TextAntialiasingMode": "Force",
"Keywords": ""
},
"supportsQueryDomains": true,
"capabilities": "Map,Query,Data",
"supportedQueryFormats": "JSON, geoJSON, PBF",
"exportTilesAllowed": false,
"referenceScale": 0.0,
"datumTransformations": [
{
"geoTransforms": [
{
"wkid": 1149,
"latestWkid": 1149,
"transformForward": false,
"name": "ETRS_1989_To_WGS_1984"
}
]
},
{
"geoTransforms": [
{
"wkid": 1149,
"latestWkid": 1149,
"transformForward": true,
"name": "ETRS_1989_To_WGS_1984"
}
]
}
],
"supportsDatumTransformation": true,
"archivingInfo": {"supportsHistoricMoment": false},
"supportsClipping": true,
"supportsSpatialFilter": true,
"supportsTimeRelation": true,
"supportsQueryDataElements": true,
"mapUnits": {"uwkid": 9001},
"maxSelectionCount": 2000,
"maxRecordCount": 2000,
"maxImageHeight": 4096,
"maxImageWidth": 4096,
"supportedExtensions": ""
}