{ "currentVersion": 10.91, "cimVersion": "2.9.0", "serviceDescription": "
Mapa del model digital d'ombres de l'àrea metropolitana de Barcelona, elaborat a partir del mapa topogràfic metropolità 1:1000.<\/SPAN><\/P><\/DIV><\/DIV>",
"mapName": "model_ombres_50cm_3857",
"description": " Mapa del model digital d'ombres de l'àrea metropolitana de Barcelona, elaborat a partir del mapa topogràfic metropolità 1:1000.<\/SPAN><\/P><\/DIV><\/DIV>",
"copyrightText": "",
"supportsDynamicLayers": true,
"layers": [
{
"id": 157,
"name": "MD_Ombres_mds",
"parentLayerId": -1,
"defaultVisibility": true,
"subLayerIds": [
158,
159,
160
],
"minScale": 0,
"maxScale": 0,
"type": "Mosaic Layer",
"supportsDynamicLegends": false
},
{
"id": 158,
"name": "Boundary",
"parentLayerId": 157,
"defaultVisibility": false,
"subLayerIds": null,
"minScale": 0,
"maxScale": 0,
"type": "Feature Layer",
"geometryType": "esriGeometryPolygon",
"supportsDynamicLegends": true
},
{
"id": 159,
"name": "Footprint",
"parentLayerId": 157,
"defaultVisibility": false,
"subLayerIds": null,
"minScale": 0,
"maxScale": 0,
"type": "Feature Layer",
"geometryType": "esriGeometryPolygon",
"supportsDynamicLegends": true
},
{
"id": 160,
"name": "Image",
"parentLayerId": 157,
"defaultVisibility": true,
"subLayerIds": null,
"minScale": 0,
"maxScale": 0,
"type": "Raster Layer",
"supportsDynamicLegends": true
}
],
"tables": [],
"spatialReference": {
"wkid": 102100,
"latestWkid": 3857,
"xyTolerance": 0.001,
"zTolerance": 0.001,
"mTolerance": 0.001,
"falseX": -20037700,
"falseY": -30241100,
"xyUnits": 10000,
"falseZ": -100000,
"zUnits": 10000,
"falseM": -100000,
"mUnits": 10000
},
"singleFusedMapCache": true,
"tileInfo": {
"rows": 256,
"cols": 256,
"dpi": 96,
"format": "PNG8",
"compressionQuality": 0,
"origin": {
"x": -2.0037508342787E7,
"y": 2.0037508342787E7
},
"spatialReference": {
"wkid": 102100,
"latestWkid": 3857,
"xyTolerance": 0.001,
"zTolerance": 0.001,
"mTolerance": 0.001,
"falseX": -20037700,
"falseY": -30241100,
"xyUnits": 1.4892314192838538E8,
"falseZ": -100000,
"zUnits": 10000,
"falseM": -100000,
"mUnits": 10000
},
"lods": [
{
"level": 0,
"resolution": 156543.033928,
"scale": 5.91657527591555E8
},
{
"level": 1,
"resolution": 78271.5169639999,
"scale": 2.95828763795777E8
},
{
"level": 2,
"resolution": 39135.7584820001,
"scale": 1.47914381897889E8
},
{
"level": 3,
"resolution": 19567.8792409999,
"scale": 7.3957190948944E7
},
{
"level": 4,
"resolution": 9783.93962049996,
"scale": 3.6978595474472E7
},
{
"level": 5,
"resolution": 4891.96981024998,
"scale": 1.8489297737236E7
},
{
"level": 6,
"resolution": 2445.98490512499,
"scale": 9244648.868618
},
{
"level": 7,
"resolution": 1222.99245256249,
"scale": 4622324.434309
},
{
"level": 8,
"resolution": 611.49622628138,
"scale": 2311162.217155
},
{
"level": 9,
"resolution": 305.748113140558,
"scale": 1155581.108577
},
{
"level": 10,
"resolution": 152.874056570411,
"scale": 577790.554289
},
{
"level": 11,
"resolution": 76.4370282850732,
"scale": 288895.277144
},
{
"level": 12,
"resolution": 38.2185141425366,
"scale": 144447.638572
},
{
"level": 13,
"resolution": 19.1092570712683,
"scale": 72223.819286
},
{
"level": 14,
"resolution": 9.55462853563415,
"scale": 36111.909643
},
{
"level": 15,
"resolution": 4.77731426794937,
"scale": 18055.954822
},
{
"level": 16,
"resolution": 2.38865713397468,
"scale": 9027.977411
},
{
"level": 17,
"resolution": 1.19432856685505,
"scale": 4513.988705
},
{
"level": 18,
"resolution": 0.597164283559817,
"scale": 2256.994353
},
{
"level": 19,
"resolution": 0.298582141647617,
"scale": 1128.497176
},
{
"level": 20,
"resolution": 0.14929107082380833,
"scale": 564.248588
},
{
"level": 21,
"resolution": 0.07464553541190416,
"scale": 282.124294
},
{
"level": 22,
"resolution": 0.03732276770595208,
"scale": 141.062147
},
{
"level": 23,
"resolution": 0.01866138385297604,
"scale": 70.5310735
}
]
},
"storageInfo": {
"storageFormat": "esriMapCacheStorageModeCompactV2",
"packetSize": 128
},
"initialExtent": {
"xmin": 204930.80963489978,
"ymin": 5046101.096781063,
"xmax": 256752.24132023862,
"ymax": 5102582.729157529,
"spatialReference": {
"cs": "pcs",
"wkid": 102100
}
},
"fullExtent": {
"xmin": 204930.80963489978,
"ymin": 5051034.575944605,
"xmax": 256752.2413202386,
"ymax": 5097649.249993986,
"spatialReference": {
"cs": "pcs",
"wkid": 102100
}
},
"datesInUnknownTimezone": false,
"minScale": 288895.277144,
"maxScale": 1128.497176,
"units": "esriMeters",
"supportedImageFormatTypes": "PNG32,PNG24,PNG,JPG,DIB,TIFF,EMF,PS,PDF,GIF,SVG,SVGZ,BMP",
"documentInfo": {
"Title": "Model digital d'ombres",
"Author": "",
"Comments": " Mapa del model digital d'ombres de l'àrea metropolitana de Barcelona, elaborat a partir del mapa topogràfic metropolità 1:1000.<\/SPAN><\/P><\/DIV><\/DIV>",
"Subject": "Mapa del model digital d'ombres de l'AMB",
"Category": "",
"AntialiasingMode": "None",
"TextAntialiasingMode": "Force",
"Version": "2.9.0",
"Keywords": "#MDS #MDT #AMB #GeoportalCartografia #GeoportalCartografiaAMB #MapaHibrid #ModelOmbres"
},
"supportsQueryDomains": true,
"capabilities": "Map,Query,Data",
"supportedQueryFormats": "JSON, geoJSON, PBF",
"exportTilesAllowed": false,
"referenceScale": 0.0,
"datumTransformations": [
{
"geoTransforms": [
{
"wkid": 108358,
"latestWkid": 5661,
"transformForward": false,
"name": "ED_1950_To_ETRS_1989_NTv2_Catalonia"
},
{
"wkid": 108359,
"latestWkid": 108359,
"transformForward": true,
"name": "ED_1950_To_WGS_1984_NTv2_Catalonia"
}
]
},
{
"geoTransforms": [
{
"wkid": 108359,
"latestWkid": 108359,
"transformForward": false,
"name": "ED_1950_To_WGS_1984_NTv2_Catalonia"
},
{
"wkid": 108358,
"latestWkid": 5661,
"transformForward": true,
"name": "ED_1950_To_ETRS_1989_NTv2_Catalonia"
}
]
}
],
"supportsDatumTransformation": true,
"archivingInfo": {"supportsHistoricMoment": false},
"supportsClipping": true,
"supportsSpatialFilter": true,
"supportsTimeRelation": true,
"supportsQueryDataElements": true,
"maxRecordCount": 2000,
"maxImageHeight": 4096,
"maxImageWidth": 4096,
"supportedExtensions": ""
}